BEGIN:VCALENDAR
VERSION:2.0
BEGIN:VEVENT
UID:DAE70BF9-D47B-4A66-8F33-3BE7550A775F
DTSTART:20230805T170000Z
DTEND:20230805T220000Z
SUMMARY:Dallas 24 Hour Club August Steak Night
DESCRIPTION:Dallas 24 Hour Club – a nonprofit organization that provides tr
 ansitional living\, support services\, and essential life skills for homel
 ess alcoholics and addicts so they can embrace long-term sobriety and beco
 me contributing and self-supporting members of the community – will host i
 ts monthly Steak Night on Saturday\, August 5\, 2023. Held on the first Sa
 turday of each month\, Steak Night is a great time for fellowship with Res
 idents of The 24 and local community members. The August Steak Night will
  feature music by Hilary O'Hara\, plus cornhole\, ping pong and more! Dinn
 er includes an 8oz. Ribeye steak\, baked potato\, ranchero beans and salad
  for $15. \nFounded in 1969\, Dallas 24 Hour Club provides transitional li
 ving\, support services and essential life skills for homeless alcoholics
  and addicts\, so they can embrace long-term sobriety and become contribut
 ing and self-supporting members of the community . The main facility on Ro
 ss Avenue offers a six-month program for men and women to help them embrac
 e recovery\, find employment\, reconnect with family members\, and learn t
 o live independently. Tillman House\, Dallas 24 Hour Club’s program for Su
 ccessful Graduates\, is a yearlong program that helps Residents transition
  into living independently. Throughout their stay\, Residents can receive
  scholarships to further their education through Texas Tech University or
  Dallas College’s WorkReadyU program. More than 35 12-Step Meetings are ho
 sted weekly at Dallas 24 Hour Club on Ross Avenue. The public is welcome a
 nd encouraged to attend Recovery Meetings and to provide fellowship and su
 pport to the Residents. The Hubcap Café\, located inside Dallas 24 Hour Cl
 ub\, is open daily to the public from 6:00 a.m. to 10:00 p.m. For more inf
 ormation about Dallas 24 Hour Club\, please visit www.dallas24hourclub.org
  .\nDallas 24 Hour Club\n4636 Ross Avenue\nDallas\, TX 75204 United States
 \n
LOCATION:4636 Ross Avenue\, Dallas\, TX 75204
URL:http://uptown.bubblelife.com/community/brynn_bagot_public_relations_1/l
 ibrary/35849764/key/3511989341/Dallas_24_Hour_Club_August_Steak_Night
CREATED:20230728T210656Z
LAST-MODIFIED:20230728T210656Z
DTSTAMP:20260419T200344Z
CLASS:PUBLIC
STATUS:CONFIRMED
TRANSP:TRANSPARENT
SEQUENCE:1
END:VEVENT
END:VCALENDAR
