BEGIN:VCALENDAR
VERSION:2.0
BEGIN:VEVENT
UID:693732F9-181C-4973-BBEA-5076B09FA0AE
DTSTART:20230901T200000Z
DTEND:20230901T230000Z
SUMMARY:Rhythm & Vibes Silent Disco
DESCRIPTION:Dance the night away—without disturbing our neighbors! Live DJs
  battle for your attention\, playing three sets of tunes simultaneously th
 rough your glow-in-the-dark wireless headphones. Rent the sets in advance\
 , and get ready to move and groove with drinks and food from Mi Cocina’s L
 a Parada and a host of tasty food trucks. \n   \nPurchase headphones here
  !\nKlyde Warren Park\n2012 Woodall Rodgers Freeway\nDallas\, TX 75201 Uni
 ted States\n
LOCATION:2012 Woodall Rodgers Freeway\, Dallas\, TX 75201
URL:http://uptown.bubblelife.com/community/klyde_warren_park/library/351895
 450/key/3511975790/Rhythm_Vibes_Silent_Disco
CREATED:20230828T163901Z
LAST-MODIFIED:20230828T163901Z
DTSTAMP:20260421T132750Z
CLASS:PUBLIC
STATUS:CONFIRMED
TRANSP:TRANSPARENT
SEQUENCE:1
END:VEVENT
END:VCALENDAR
