BEGIN:VCALENDAR
VERSION:2.0
BEGIN:VEVENT
UID:B2FD82DA-893D-4FBE-8F26-11DF8ADF63A5
DTSTART:20230414T104500Z
DTEND:20230414T130000Z
SUMMARY:JUNIOR LEAGUE OF DALLAS HOSTS MILESTONES LUNCHEON
DESCRIPTION:Junior League of Dallas (JLD) will hold its annual  Milestones
   Luncheon\, co-chaired by  Heather McNamara  and  Elizabeth Gambrell \, o
 n April 14\, 2023\, at Omni Dallas Hotel.  JLD’s Sustainer of the Year\,
   Pam Busbee \, will be recognized at the luncheon\, where award-winning a
 ctor and  New York Times  bestselling author  Rob Lowe  will be the featur
 ed speaker.  \nThe  Milestones  Luncheon is an annual fundraiser benefitin
 g the Junior League of Dallas Community Service Fund that serves as a plat
 form to raise awareness for the programs and issues supported by the JLD a
 nd to recognize the impact and achievements of its volunteers. Proceeds fr
 om The  Milestones  Luncheon allow the JLD to grant approximately $1 milli
 on annually to the Dallas community. \n The Junior League of Dallas cultiv
 ates leaders who collectively address the critical  needs of the community
 . Founded in 1922\, JLD is one of the largest Junior  Leagues in the world
 \, as well as the largest and oldest training organization for women in Da
 llas. Active members range in age from 22 to 49 with approximately 85% per
 cent of women employed outside of the home. The JLD provides leadership op
 portunities to nearly 4\,300 women each year through more than 17\,000 cum
 ulative hours of experiential and formal training. Uniquely member-run\, J
 LD provides over 100\,000 hours in volunteer service and approximately $1
  million in funding to area nonprofits each year. For more information\, p
 lease visit   www.jldallas.org  or Facebook\, Instagram\, LinkedIn\, and T
 witter.\nOmni Dallas Hotel\n555 Lamar Street\nDallas\, TX 75202 United Sta
 tes\n
LOCATION:555 Lamar Street\, Dallas\, TX 75202
URL:http://uptown.bubblelife.com/community/brynn_bagot_public_relations_1/l
 ibrary/35849764/key/3511945871/JUNIOR_LEAGUE_OF_DALLAS_HOSTS_MILESTONES_LU
 NCHEON
CREATED:20230409T211556Z
LAST-MODIFIED:20230409T211556Z
DTSTAMP:20260419T200426Z
CLASS:PUBLIC
STATUS:CONFIRMED
TRANSP:TRANSPARENT
SEQUENCE:1
END:VEVENT
END:VCALENDAR
