BEGIN:VCALENDAR
VERSION:2.0
BEGIN:VEVENT
UID:AF41CB07-E280-4B15-A8B4-2B267A62FC7E
DTSTART:20230403T160000Z
DTEND:20230403T223000Z
SUMMARY:NCAA Men's Championship Game Watch Party
DESCRIPTION:Come watch the NCAA Men's Championship Game with CBS News Texas
  at Klyde Warren Park on Monday\, April 3 starting at 4 PM. Bring your bla
 nket and grab a spot in front of the big screen. Tip-off is at 8 PM. Food
  trucks and cash bars available. Just let us know you're coming - no ticke
 t needed.\nKlyde Warren Park\n2012 Woodall Rodgers Freeway\nDallas\, TX 75
 201 United States\n
LOCATION:2012 Woodall Rodgers Freeway\, Dallas\, TX 75201
URL:http://uptown.bubblelife.com/community/klyde_warren_park/library/351895
 450/key/3511941181/NCAA_Mens_Championship_Game_Watch_Party
CREATED:20230402T203504Z
LAST-MODIFIED:20230402T203504Z
DTSTAMP:20260421T132806Z
CLASS:PUBLIC
STATUS:CONFIRMED
TRANSP:TRANSPARENT
SEQUENCE:1
END:VEVENT
END:VCALENDAR
