BEGIN:VCALENDAR
VERSION:2.0
BEGIN:VEVENT
UID:12057F70-4FFE-457E-AE19-7877A1E0E8D9
DTSTART:20230804T080000Z
DTEND:20230804T140000Z
SUMMARY:The 27th Annual Dallas Mayors Back to School Fair
DESCRIPTION:THE 27 TH ANNUAL DALLAS MAYORS BACK TO SCHOOL FAIR\, \n POWERED
  BY THE JUNIOR LEAGUE OF DALLAS\, WILL TAKE PLACE \n FRIDAY\, AUGUST 4 AT
  FAIR PARK \n   \nMayor Eric L. Johnson and Dallas Independent School Dist
 rict (Dallas ISD) are hosting the 27 th Annual Dallas Mayor’s Back to Scho
 ol Fair\, powered by the Junior League of Dallas\,  Friday\, August 4\, 20
 23\, at Fair Park inside the Automobile Building and Centennial Hall. The
  fair\, hosted by Mayor Johnson\, is a collaborative event between the Cit
 y of Dallas\, Dallas Independent School District (Dallas ISD)\, nonprofits
 \, corporations\, and community volunteers. Each year\, it serves over 10\
 ,000 economically disadvantaged students in grade levels pre-K to 12 and t
 heir families. For 27 years\, the fair has served as a one-stop shop for s
 chool supplies\, valuable services\, and community resources. Pre-register
 ed Dallas students and their families will receive school supplies at the
  fair and access to immunizations\, dental screenings\, vision exams\, and
  other health and social services provided by more than 100 vendors. This
  year\, the Junior League of Dallas will power the event and recruit\, tra
 in\, and support more than 500 event volunteers. \nThe Junior League of Da
 llas cultivates leaders who collectively address   the critical needs of t
 he community. Founded in 1922\, JLD is one of the   largest Junior Leagues
  in the world\, as well as the largest and oldest training organization fo
 r women in Dallas. Active members range in age from 22 to 49\, with approx
 imately 85% percent of women employed outside the home. The JLD provides l
 eadership opportunities to nearly 4\,000 women each year through more than
  17\,000 cumulative hours of experiential and formal training. Uniquely me
 mber-run\, JLD provides approximately 100\,000 hours in volunteer service
  and more than $1 million in funding to area nonprofits each year. For mor
 e information\, please visit  www.jldallas.org or Facebook\, Instagram\, L
 inkedIn\, and Twitter. \n  \n To register and learn more about the Dallas
  Mayor’s Back to School Fair\, please visit  mayorsbacktoschoolfair.com .
  If you have questions about volunteer opportunities available\, you can g
 et in touch with us at  mbtsf@jldallas.org .\nFair Park's Automobile Build
 ing and Centennial Hal\n3809 Grand Avenue\nDallas\, TX 75210 United States
 \n
LOCATION:3809 Grand Avenue\, Dallas\, TX 75210
URL:http://uptown.bubblelife.com/community/brynn_bagot_public_relations_1/l
 ibrary/35849764/key/3511925082/The_27th_Annual_Dallas_Mayors_Back_to_Schoo
 l_Fair
CREATED:20230718T183600Z
LAST-MODIFIED:20230718T183600Z
DTSTAMP:20260419T200425Z
CLASS:PUBLIC
STATUS:CONFIRMED
TRANSP:TRANSPARENT
SEQUENCE:1
END:VEVENT
END:VCALENDAR
