BEGIN:VCALENDAR
VERSION:2.0
BEGIN:VEVENT
UID:8CB49179-2331-423C-8727-7F39656ABEF3
DTSTART:20230603T170000Z
DTEND:20230603T220000Z
SUMMARY:DALLAS 24 HOUR CLUB TO HOST STEAK NIGHT JUNE 3
DESCRIPTION:DALLAS 24 HOUR CLUB TO HOST ITS MONTHLY STEAK NIGHT  AND 54 th
  ANNIVERSARY CELEBRATION ON JUNE 3\, 2023 \nDallas 24 Hour Club – a nonpro
 fit organization that provides transitional living\, support services\, an
 d essential life skills for homeless alcoholics and addicts so they can em
 brace long-term sobriety and become contributing and self-supporting membe
 rs of the community – will host its monthly Steak Night on Saturday\, June
  3\, 2023. Held on the first Saturday of each month\, Steak Night is a gre
 at time for fellowship with Residents of The 24 and local community member
 s. \nThe June Steak Night will also celebrate The 24’s 54 th anniversary.
  Singer Tom Gilchrist will entertain guests and help ring in this monument
 al birthday! \n   \n Saturday\, June 3\, 2023 \n5 p.m. to 10 p.m.  \n  \n
  Dallas 24 Hour Club \n4636 Ross Avenue \nDallas\, Texas 75204\nDallas 24
  Hour Club\n4636 Ross Avenue\nDallas\, TX 75204 United States\n
LOCATION:4636 Ross Avenue\, Dallas\, TX 75204
URL:http://uptown.bubblelife.com/community/brynn_bagot_public_relations_1/l
 ibrary/35849764/key/3511918882/DALLAS_24_HOUR_CLUB_TO_HOST_STEAK_NIGHT_JUN
 E_3
CREATED:20230426T154110Z
LAST-MODIFIED:20230426T154110Z
DTSTAMP:20260419T200345Z
CLASS:PUBLIC
STATUS:CONFIRMED
TRANSP:TRANSPARENT
SEQUENCE:1
END:VEVENT
END:VCALENDAR
