BEGIN:VCALENDAR
VERSION:2.0
BEGIN:VEVENT
UID:657D8DA5-D46D-4AFC-88B7-96160F007478
DTSTART:20240729T100000Z
DTEND:20240808T170000Z
SUMMARY:John Modesitt Exhibit at Alan Barnes Fine Art
DESCRIPTION:More than 150 years ago\, on April 15\, 1874\, the first impres
 sionist exhibition opened in Paris. "Hungry for independence\," Monet\, Re
 noir\, Degas\, Morisot\, Pissarro\, Sisley and Cézanne finally decided to
  free themselves from the rules by holding their own exhibition\, outside
  official channels\, and impressionism was born. \nKeeping this historic d
 ate in mind\, Alan Barnes fine art is delighted to welcome American impres
 sionist  John Modesitt  to its Dallas studio for an exhibition now through
  August 8th. \nModesitt's paintings are easy on the eye\, and viewers and
  collectors alike\, gravitate towards the world from his perspective\, rev
 ealing beauty and drama in everyday scenes. With a deep-rooted connection
  to his years studying the masters of Impressionism\, John's coastal paint
 ings demonstrate a profound grasp of light\, color\, and emotion\, influen
 ced by both artistic tradition and personal experiences. \nModesitt is one
  of the most versatile and well loved artists to have ever worked with Ala
 n Barnes Fine Art\, and we highly recommend these paintings to our new and
  seasoned collectors. The exhibition is available to view by appointment\,
  Monday through Saturday. To schedule an appointment\, email info@alanbarn
 esfineart.com or call 214.828.1311. To see more of Modesitt's work\, visit
 https://www.flipsnack.com/AlanBarnesFineArt/abfa-filpbook-uisv8f3tk5/full-
 view.html. For more information\, http://www.alanbarnesfineart.com.\nAlan
  Barnes Fine Art\n4887 Alpha Road\, Suite 210\nDallas\, TX 75244 United St
 ates\n
LOCATION:4887 Alpha Road\, Suite 210\, Dallas\, TX 75244
URL:http://uptown.bubblelife.com/community/brynn_bagot_public_relations_1/l
 ibrary/35849764/key/3511896163/John_Modesitt_Exhibit_at_Alan_Barnes_Fine_A
 rt
CREATED:20240729T180313Z
LAST-MODIFIED:20240729T180313Z
DTSTAMP:20260419T182237Z
CLASS:PUBLIC
STATUS:CONFIRMED
TRANSP:TRANSPARENT
SEQUENCE:1
END:VEVENT
END:VCALENDAR
