BEGIN:VCALENDAR
VERSION:2.0
BEGIN:VEVENT
UID:577B2847-7F15-43FA-9248-A769E8B5FBEB
DTSTART:20241206T183000Z
DTEND:20241228T210000Z
SUMMARY:Christmas Lights\, Chocolate & Sips Tours
DESCRIPTION:View holiday lights in sweet style on our private heated motorc
 oach! Taste scrumptious dessert treats from premier local dessert venues.
  Then relax as our lively tour host showcases some of Dallas' most spectac
 ular holiday displays! \n  \nAn array of exquisite Winter Wonderlands awai
 ts in beautifully decorated locations\, including the Park Cities. While t
 ouring\, sip hot chocolate\, soft drinks and water as well as other great
  beverages (you may also BYOB). So sit back\, listen to holiday music and
  enjoy the spirit of the Season! Includes motorcoach transportation\, dess
 ert tastings and beverages.  \n  \nNamed one of the 10Best Events at the H
 olidays in Dallas by USA Today. \n  \nAdults only\, All Ages\, Family Frie
 ndly and Lights only (bring your own food) Tours will be offered.  Also\,
  there are tours to see the lights in Frisco/Vitruvian Lights in Addison.
  \nExact meeting location will be given to ticket holders\, as there are o
 ften several tours holding at the same time.  It will be in central or nor
 th Dallas.\nDallas by Chocolate\n4925 Greenville Avenue\nDallas\, TX 75206
  United States\n
LOCATION:4925 Greenville Avenue\, Dallas\, TX 75206
URL:http://uptown.bubblelife.com/community/dallas_by_chocolate_tours/librar
 y/355503933/key/3511878590/Christmas_Lights_Chocolate_Sips_Tours
CREATED:20241029T155127Z
LAST-MODIFIED:20241029T155127Z
DTSTAMP:20260423T023612Z
RRULE:FREQ=YEARLY;WKST=FR;BYMONTH=1;BYMONTHDAY=1;X-EWSOFTWARE-OCCURONHOL=0
CLASS:PUBLIC
STATUS:CONFIRMED
TRANSP:TRANSPARENT
SEQUENCE:1
END:VEVENT
END:VCALENDAR
