BEGIN:VCALENDAR
VERSION:2.0
BEGIN:VEVENT
UID:12FE7688-D2A0-4C1A-8901-DDB3ABE50DC5
DTSTART:20241202T060000Z
DTEND:20241205T220000Z
SUMMARY:COCM Beneficiary Application Closing Soon!
DESCRIPTION:Dallas-area nonprofits can now apply to be considered for a gra
 nt from the annual Chi Omega Christmas Market\, which was started by the D
 allas-area alumnae in 1978 to live out its mission to serve others. In its
  46-year history\, COCM has donated more than $10.4 million to support mor
 e than 146 different worthy Dallas-area nonprofits that serve our communit
 y in the categories of arts\, civic\, education\, and health and welfare.
  \n “Each year Chi Omega Christmas Market supports a diverse array of nonp
 rofit organizations that represent some of the most critical needs in the
  Dallas community\, as well as collegiate scholarships\,” said Emily Thors
 en Blair\, 2024- 2025 Beneficiary Chairperson. “We are so grateful to our
  community\, shoppers\, patrons and sponsors who support the Market and al
 low us to donate essential funds each year to these deserving beneficiarie
 s.”  \n Chi Omega Christmas Market will only consider applications from no
 nprofit organizations that address specific needs in our community in area
 s including the Arts\, Civic\, Education\, Health\, and Welfare. To be con
 sidered for Chi Omega Christmas Market grant funding\, organizations MUST
  :  \n Have a minimum request of $50\,000  \n Be tax-exempt for a minimum
  of three (3) years under section 501(c)(3) of the Internal Revenue Code.
   \n The services or project for which funding is sought must be performed
  or located in Dallas County\, Texas.  If an organization’s services benef
 it areas outside of Dallas County\, Dallas County recipients of such servi
 ces must represent more than 75 percent of the total.  The seat of the org
 anization must be located in the Dallas metroplex. \n Organizations who ha
 ve received funds from COCM 2022\, 2023 or 2024 are not eligible to apply.
  We invite applications for Chi Omega Christmas funding three years after
  receiving funds. \n Nonprofit organizations that meet the criteria listed
  above\, may complete the Google Form at this link: https://www.chiomegach
 ristmasmarket.org/beneficiary-application . The application deadline is De
 cember 6\, 2024. Please reach out to cocmbeneficiaryfiles@gmail.com with a
 ny questions.
URL:http://uptown.bubblelife.com/community/brynn_bagot_public_relations_1/l
 ibrary/35849764/key/3511872831/COCM_Beneficiary_Application_Closing_Soon
CREATED:20241028T165108Z
LAST-MODIFIED:20241028T165108Z
DTSTAMP:20260419T184737Z
CLASS:PUBLIC
STATUS:CONFIRMED
TRANSP:TRANSPARENT
SEQUENCE:1
END:VEVENT
END:VCALENDAR
