BEGIN:VCALENDAR
VERSION:2.0
BEGIN:VEVENT
UID:2C4806F8-0270-4D8F-AD2B-4AB568862C95
DTSTART:20230424T100000Z
DTEND:20230428T180000Z
SUMMARY:AYA Medical Spa Spring Open House
DESCRIPTION:Spring is the perfect season for new beginnings\, especially a
  new skincare routine! To help refresh your skin and prep for warmer weath
 er\, AYA Medical Spa will host its annual Spring Open House from April 24
  – 28\, featuring exclusive beauty specials only available during this tim
 e. To kick off the open house on April 23\, visiting aesthetician Holly Ne
 lson will provide free Diamond Glow Express treatments for patients who re
 ceive a Visia Skin Analysis consultation. \nOpen House specials include: 2
 0% off all Skincare (Shop online with code DS23) Stock up on your favorite
  toxin: Botox $11\, Dysport $3\, Jeuveau $9 Filler and Kybella – Buy one\,
  get one FREE (Mix and Match!) 25% off Laser Hair Removal Initial Fees 25%
  off DiamondGlow 25% off Microneedling 25% off all PRP Therapy 50% off Coo
 lSculpting (8 cycles or more) 25% off Sciton Laser Treatments\, including:
  HALO\, BBL Hero\, MOXI \nThe first 50 patients to spend $1\,000 or more w
 ill receive a swag bag filled with full-size and travel size products (one
  bag per customer). Patients are also able to bank treatments to use throu
 ghout the year. Scheduled in-person\, virtual and phone consultations are
  available.\nAYA Medical Spa Dallas\n6825 Snider Plaza\nDallas\, TX 75205
  United States\n
LOCATION:6825 Snider Plaza\, Dallas\, TX 75205
URL:http://uptown.bubblelife.com/community/brynn_bagot_public_relations_1/l
 ibrary/35849764/key/3511538240/AYA_Medical_Spa_Spring_Open_House
CREATED:20230315T171623Z
LAST-MODIFIED:20230315T171623Z
DTSTAMP:20260419T214653Z
CLASS:PUBLIC
STATUS:CONFIRMED
TRANSP:TRANSPARENT
SEQUENCE:1
END:VEVENT
END:VCALENDAR
