BEGIN:VCALENDAR
VERSION:2.0
BEGIN:VEVENT
UID:E74BF595-59FE-45BD-97EF-4A0DD7C08D18
DTSTART:20250801T080000Z
DTEND:20250801T140000Z
SUMMARY:JLD to Host Mayor's Back to School Fair August 1st
DESCRIPTION:Community members are now invited to the 29 th Annual Mayor’s B
 ack to School Fair\, scheduled for August 1\, 2025\, at Fair Park. This si
 gnature event\, a collaborative effort between the Office of the Mayor of
  Dallas\, Dallas Independent School District (DISD)\, Junior League of Dal
 las\, local nonprofits\, corporations\, and dedicated volunteers\, plays a
  vital role in supporting economically disadvantaged students and their fa
 milies across the city. \n Each year\, the Mayor’s Back to School Fair ser
 ves more than 10\,000 students from pre-K to 12 th grade\, providing them
  with essential school supplies\, valuable services\, and community resour
 ces\, all for free at one convenient location. The fair offers a wide rang
 e of health and social services\, including immunizations\, dental screeni
 ngs\, vision exams\, and more\, all delivered by local businesses\, health
 care providers\, and community organizers. \n Visit https://www.mayorsback
 toschoolfair.com/ for more information.\nFair Park\n3809 Grand Avenue\nDal
 las\, TX 75210 United States\n
LOCATION:3809 Grand Avenue\, Dallas\, TX 75210
URL:http://uptown.bubblelife.com/community/brynn_bagot_public_relations_1/l
 ibrary/35849764/key/3511375643/JLD_to_Host_Mayors_Back_to_School_Fair_Augu
 st_1st
CREATED:20250723T144616Z
LAST-MODIFIED:20250723T144616Z
DTSTAMP:20260419T200331Z
CLASS:PUBLIC
STATUS:CONFIRMED
TRANSP:TRANSPARENT
SEQUENCE:1
END:VEVENT
END:VCALENDAR
