BEGIN:VCALENDAR
VERSION:2.0
BEGIN:VEVENT
UID:198164C0-A4B2-4467-9613-64E971B01C37
DTSTART:20250220T183000Z
DTEND:20250220T210000Z
SUMMARY:HP LitFest Keynote Speaker Mark Sullivan
DESCRIPTION:Celebrating its 30 th anniversary\, the Highland Park Literary
  Festival (HP LitFest) announced today that Mark Sullivan \, New York Time
 s bestselling author of Beneath a Scarlet Sky and a former investigative r
 eporter\, will be the featured speaker of this year’s community keynote ev
 ent on February 20\, 2025\, in the Highland Park High School Auditorium. D
 oors will open at 6:30 p.m. and the program will begin at 7 p.m. Admission
  is free. The HP LitFest Committee would like to thank La Fiesta de la Sei
 s Banderas for generously supporting its mission for the past 24 years\, e
 nabling the organization to achieve prominence as a community literary fes
 tival.  \nHP LitFest was founded in 1995 by parents and Highland Park High
  School (HPHS) faculty members who mutually desired to create a program to
  provide literary enrichment and spark the interest and imagination of hig
 h school students.  HP LitFest has since grown into a highly anticipated s
 eries of events for students and community members\, culminating in a two-
 day festival.  HP LitFest remains committed to its mission of inspiring an
 d encouraging students\, the local community\, and the greater Dallas area
  to celebrate language in all its written and spoken forms.  In the past s
 everal years\, HP LitFest has proudly expanded its programming from the hi
 gh school into every HPISD school.\nHighland Park High School Auditorium\n
 United States\n
URL:http://uptown.bubblelife.com/community/brynn_bagot_public_relations_1/l
 ibrary/35849764/key/3511341641/HP_LitFest_Keynote_Speaker_Mark_Sullivan
CREATED:20241101T172253Z
LAST-MODIFIED:20241101T172253Z
DTSTAMP:20260419T200344Z
CLASS:PUBLIC
STATUS:CONFIRMED
TRANSP:TRANSPARENT
SEQUENCE:1
END:VEVENT
END:VCALENDAR
