BEGIN:VCALENDAR
VERSION:2.0
BEGIN:VEVENT
UID:650453F8-3352-4ADD-84A1-B08C53E5263D
DTSTART:20250801T080000Z
DTEND:20250801T140000Z
SUMMARY:Mayor's Back to School Fair
DESCRIPTION:The Mayor’s Back to School Fair is a collaborative effort betwe
 en the City of Dallas\, Dallas ISD\, Junior League of Dallas\, nonprofits\
 , corporations\, and community volunteers. Each year\, it serves more than
  10\,000 economically disadvantaged students in grade levels pre-K to 12 a
 nd their families. It serves as a one-stop shop for Dallas ISD students an
 d their families to receive school supplies\, valuable services\, and comm
 unity resources. Attendees have access to immunizations\, dental screening
 s\, vision exams\, and other health and social services provided by local
  businesses\, organizations\, and agencies. Family’s are required to pre-r
 egister. To register and for more information\, visit https://www.mayorsba
 cktoschoolfair.com/ .\nFair Park\n3809 Grand Ave\nDallas\, TX 75210 United
  States\n
LOCATION:3809 Grand Ave\, Dallas\, TX 75210
URL:http://uptown.bubblelife.com/community/brynn_bagot_public_relations_1/l
 ibrary/35849764/key/3511326920/Mayors_Back_to_School_Fair
CREATED:20250416T161603Z
LAST-MODIFIED:20250416T161603Z
DTSTAMP:20260419T184645Z
CLASS:PUBLIC
STATUS:CONFIRMED
TRANSP:TRANSPARENT
SEQUENCE:1
END:VEVENT
END:VCALENDAR
