BEGIN:VCALENDAR
VERSION:2.0
BEGIN:VEVENT
UID:5F81ECF5-6DBE-4D75-94EB-72034CF77D4C
DTSTART:20250130T190000Z
DTEND:20250130T210000Z
SUMMARY:HP LitFest Presents Flick Fest
DESCRIPTION:Flick Fest\, the primary fundraising event for the Highland Par
 k Literary Festival (HP LitFest)\, will feature acclaimed screenwriter and
  two-time Academy Award nominee\,  David Magee . It will be held Thursday\
 , January 30\, 2025\, at 7 p.m. at the Angelica Theater in Mockingbird Sta
 tion. Flick Fest will offer a showing and discussion of movies from which
  David has written screenplays\, including “Life of Pi\,” “Mary Poppins Re
 turns” and “Finding Neverland.” Donations of $35 or more include the movie
  screening\, discussion\, a beverage and popcorn. Visit https://hplitfest.
 com/flick-fest/ for reservations and additional detail.\nAngelica Theater
  in Mockingbird Station\n5321 E Mockingbird Ln #230\nDallas\, TX 75206 Uni
 ted States\n
LOCATION:5321 E Mockingbird Ln #230\, Dallas\, TX 75206
URL:http://uptown.bubblelife.com/community/brynn_bagot_public_relations_1/l
 ibrary/35849764/key/3511317914/HP_LitFest_Presents_Flick_Fest
CREATED:20241209T174952Z
LAST-MODIFIED:20241209T174952Z
DTSTAMP:20260419T183738Z
CLASS:PUBLIC
STATUS:CONFIRMED
TRANSP:TRANSPARENT
SEQUENCE:1
END:VEVENT
END:VCALENDAR
