BEGIN:VCALENDAR
VERSION:2.0
BEGIN:VEVENT
UID:60A86209-752A-4976-99AA-F216BD4F7411
DTSTART:20240427T130000Z
DTEND:20240427T160000Z
SUMMARY:Saint Spritz Country Club
DESCRIPTION:All things country club vibes presented by Saint Spritz. An aft
 ernoon of spritzer\, lite bites\, live music\, pickle ball\, and chillin i
 n the sun. Must be 21+ to attend. Please RSVP in order to get access to ev
 ent details and for check in purposes.\nThe Sandy Pickle at The Village\n5
 683 Village Glen Dr\nDallas\, TX 75206 United States\n
LOCATION:5683 Village Glen Dr\, Dallas\, TX 75206
URL:http://uptown.bubblelife.com/community/uptown_calendar/library/3562493/
 key/3511285301/Saint_Spritz_Country_Club
CREATED:20240417T131727Z
LAST-MODIFIED:20240417T131727Z
DTSTAMP:20260421T001056Z
CLASS:PUBLIC
STATUS:CONFIRMED
TRANSP:TRANSPARENT
SEQUENCE:1
END:VEVENT
END:VCALENDAR
