BEGIN:VCALENDAR
VERSION:2.0
BEGIN:VEVENT
UID:40D9F478-4EE8-47E2-BD22-639E3889E3C7
DTSTART:20240926T090000Z
DTEND:20240928T170000Z
SUMMARY:2024 Chi Omega Christmas Market
DESCRIPTION:The Chi Omega Alumnae of Dallas has announced the 47 th annual
  Chi Omega Christmas Market (COCM) will be held September 26-28\, 2024 \,
  in a new venue\, Dallas Market Hall . One of Dallas’ most iconic and belo
 ved holiday traditions\, the Chi Omega Christmas Market raises critical fu
 nds for numerous local nonprofit organizations and collegiate scholarships
 . This year’s Chi Omega Christmas Market Co-chairs are Karen Hunt\, Debbie
  Lang and Nancy Woodall.    \nChi Omega Christmas Market is a unique shopp
 ing experience that offers seasonal and holiday gifts for every age. Each
  year\, COCM welcomes thousands of shoppers and more than 200 handpicked m
 erchants from around the country\, which transforms the Market into a luxu
 ry gift marketplace. With the earlier dates this year\, shoppers will be a
 ble to get a jump start on the holiday season including a wide variety of
  hard-to-find items including jewelry\; home décor\; women’s and men’s fas
 hions\; football and team spirit gear\; holiday décor for Halloween\, Than
 ksgiving and Christmas\; toys\; food and drinks\; items for entertaining\;
  linens and original art. From the traditional to the fashionably chic and
  hip\, there is a gift for everyone on your holiday gift list at the Chi O
 mega Christmas Market.    \nCOCM shopping dates are September 26-28\, 2024
 \, with market hours on Thursday 9 a.m. to 9 p.m.\, Friday 9 a.m. to 8 p.m
 . and Saturday 9 a.m. to 5 p.m. Dallas Market Hall at Dallas Market Center
  is located at 2200 Stemmons Freeway\, Dallas\, Texas 75207. For more info
 rmation\, visit www.chiomegachristmasmarket.org .\nDallas Market Hall\n220
 0 Stemmons Freeway\nDallas\, TX 75207 United States\n
LOCATION:2200 Stemmons Freeway\, Dallas\, TX 75207
URL:http://uptown.bubblelife.com/community/brynn_bagot_public_relations_1/l
 ibrary/35849764/key/3511255443/2024_Chi_Omega_Christmas_Market
CREATED:20240313T202716Z
LAST-MODIFIED:20240313T202716Z
DTSTAMP:20260419T182238Z
CLASS:PUBLIC
STATUS:CONFIRMED
TRANSP:TRANSPARENT
SEQUENCE:1
END:VEVENT
END:VCALENDAR
