BEGIN:VCALENDAR
VERSION:2.0
BEGIN:VEVENT
UID:DE17909F-0A74-478D-8368-95B7706925FD
DTSTART:20220528T150000Z
DTEND:20220528T210000Z
SUMMARY:Klyde Warren Park's Memorial Day Movie Marathon
DESCRIPTION:Bring the whole family to the Park on Saturday\, May 28\, for a
  Memorial Day weekend movie marathon as part of Movies in the Park present
 ed by Scott K. Ginsburg and Family. \n3 - 5 PM  Raya and the Last Dragon \
 n5 - 7 PM  Twilight \n7 - 9 PM  La La Land\nKlyde Warren Park\nUnited Stat
 es\n
URL:http://uptown.bubblelife.com/community/klyde_warren_park/library/351895
 450/key/3511139332/Klyde_Warren_Parks_Memorial_Day_Movie_Marathon
CREATED:20220510T172857Z
LAST-MODIFIED:20220510T172857Z
DTSTAMP:20260421T203714Z
CLASS:PUBLIC
STATUS:CONFIRMED
TRANSP:TRANSPARENT
SEQUENCE:1
END:VEVENT
END:VCALENDAR
