BEGIN:VCALENDAR
VERSION:2.0
BEGIN:VEVENT
UID:A0ECBF4B-BC20-4AE7-BA73-F32487A68AF7
DTSTART:20220529T140000Z
DTEND:20220529T170000Z
SUMMARY:Rhythm & Vibes DJ Summer Series
DESCRIPTION:Rhythm & Vibes is a celebration of summer! It encompasses all t
 he great things about music festivals from people to great music\, dancing
 \, food\, art\, vendors\, and more. It’s a beautiful event that’s safe\, f
 ree\, and accessible for all people and pets to enjoy. In the cultural hub
  of the city of Dallas\, Klyde Warren Park\, you will experience diverse b
 lends of music\, pulsating rhythms\, colorful lights\, artistic video prod
 uction\, and blissful sounds from Ish D and Richy Smart.\nKlyde Warren Par
 k\nUnited States\n
URL:http://uptown.bubblelife.com/community/klyde_warren_park/library/351895
 450/key/3511138000/Rhythm_Vibes_DJ_Summer_Series
CREATED:20220516T162503Z
LAST-MODIFIED:20220516T162503Z
DTSTAMP:20260421T185701Z
CLASS:PUBLIC
STATUS:CONFIRMED
TRANSP:TRANSPARENT
SEQUENCE:1
END:VEVENT
END:VCALENDAR
