BEGIN:VCALENDAR
VERSION:2.0
BEGIN:VEVENT
UID:393224BC-C193-42CD-9AA7-45D371F395F5
DTSTART:20221203T150000Z
DTEND:20221203T180000Z
SUMMARY:Klyde Warren Park's Tree Lighting Celebration
DESCRIPTION:Free family tradition that includes a festive day of activities
  and entertainment\, photos with Santa\, story time with Mrs. Claus\, face
  painting\, crafts\, games and snow flurries! The day culminates with a li
 ve show featuring performances of holiday music\, visits from Santa’s frie
 nds Frosty and Rudolph\, and Klyde Warren Park’s annual tree lighting.\nKl
 yde Warren Park\nUnited States\n
URL:http://uptown.bubblelife.com/community/klyde_warren_park/library/351895
 450/key/3511132262/Klyde_Warren_Parks_Tree_Lighting_Celebration
CREATED:20220511T201454Z
LAST-MODIFIED:20220511T201454Z
DTSTAMP:20260421T132750Z
CLASS:PUBLIC
STATUS:CONFIRMED
TRANSP:TRANSPARENT
SEQUENCE:1
END:VEVENT
END:VCALENDAR
