BEGIN:VCALENDAR
VERSION:2.0
BEGIN:VEVENT
UID:1227CBCA-AC68-44BE-986F-9791A6ACA96D
DTSTART:20221029T170000Z
DTEND:20221029T204500Z
SUMMARY:Klyde Warren Park's Trick-or-Treating in the Park
DESCRIPTION:Klyde Warren Park’s Corporate Council hosts its second-annual F
 REE trick-or-treating party in the Park. Dress the whole family up\, and j
 oin us for candy collecting\, costume contests and classic comedy with a n
 ighttime showing of the Halloween movie  Hocus Pocus . \n5 - 7 PM \nTrick-
 or-Treating \n7 - 8:45 PM \n Hocus Pocus\nKlyde Warren Park\nUnited States
 \n
URL:http://uptown.bubblelife.com/community/klyde_warren_park/library/351895
 450/key/3511130883/Klyde_Warren_Parks_Trick-or-Treating_in_the_Park
CREATED:20220511T193024Z
LAST-MODIFIED:20220511T193024Z
DTSTAMP:20260421T151428Z
CLASS:PUBLIC
STATUS:CONFIRMED
TRANSP:TRANSPARENT
SEQUENCE:1
END:VEVENT
END:VCALENDAR
