BEGIN:VCALENDAR
VERSION:2.0
BEGIN:VEVENT
UID:DD740501-234B-4FFB-BEDC-1B16B9DD8371
DTSTART:20221029T190000Z
DTEND:20221029T210000Z
SUMMARY:Movies in the Park: Hocus Pocus
DESCRIPTION:From blockbusters to animated favorites\, from musicals to come
 dies\, you won’t want to miss any of these fun\, free\, family-friendly fl
 icks in our 2022 lineup presented by Scott K. Ginsburg and Family. Grab a
  space on the lawn\, enjoy a food truck picnic and let the cinematic fun b
 egin. All movie screens provided by Ultimate Outdoor Entertainment.\nKlyde
  Warren Park\nUnited States\n
URL:http://uptown.bubblelife.com/community/klyde_warren_park/library/351895
 450/key/3511130653/Movies_in_the_Park_Hocus_Pocus
CREATED:20220511T144723Z
LAST-MODIFIED:20220511T144723Z
DTSTAMP:20260421T132722Z
CLASS:PUBLIC
STATUS:CONFIRMED
TRANSP:TRANSPARENT
SEQUENCE:1
END:VEVENT
END:VCALENDAR
