BEGIN:VCALENDAR
VERSION:2.0
BEGIN:VEVENT
UID:3595E7A0-CC7E-490C-9E45-AEBC96E94BDD
DTSTART:20221210T190000Z
DTEND:20221210T210000Z
SUMMARY:Movies in the Park: The Santa Clause
DESCRIPTION:From blockbusters to animated favorites\, from musicals to come
 dies\, you won’t want to miss any of these fun\, free\, family-friendly fl
 icks in our 2022 lineup presented by Scott K. Ginsburg and Family. Grab a
  space on the lawn\, enjoy a food truck picnic and let the cinematic fun b
 egin. All movie screens provided by Ultimate Outdoor Entertainment.\nKlyde
  Warren Park\nUnited States\n
URL:http://uptown.bubblelife.com/community/klyde_warren_park/library/351895
 450/key/3511130620/Movies_in_the_Park_The_Santa_Clause
CREATED:20220511T144904Z
LAST-MODIFIED:20220511T144904Z
DTSTAMP:20260421T151428Z
CLASS:PUBLIC
STATUS:CONFIRMED
TRANSP:TRANSPARENT
SEQUENCE:1
END:VEVENT
END:VCALENDAR
