BEGIN:VCALENDAR
VERSION:2.0
BEGIN:VEVENT
UID:18BBCF7A-BC98-463B-8CE0-AB3AB998263E
DTSTART:20231104T190000Z
DTEND:20231104T220000Z
SUMMARY:Jazz under the Stars presented by RNDC
DESCRIPTION:This fall\, Klyde Warren Park reintroduces Jazz Under the Stars
  Presented by Republic National Distributing Company (RNDC)\, an extraordi
 nary evening of music\, community and creativity. Showcasing three version
 s of innovative and original jazz music\, this FREE event brings back the
  vibe of the Dallas Museum of Art’s wildly popular series of the same name
 . Artists include:   \n Carmen Bradford  - Grammy nominated lead vocalist
  for Count Basie Orchestra (big band swing with 17-piece band) \n John Mil
 ls TIMES TEN - Professor of jazz composition at the University of Texas an
 d touring professional (fusion jazz with 10-piece band) \n Ephralm Owens Q
 uintet - native-born Dallas trumpet sensation and touring member of Tedesc
 hi Trucks Band (cool jazz with five-piece band) \n RNDC has curated a sele
 ction of wines and spirits to complement the distinctive and improvisation
 al melodies. Blanket seating is encouraged for picnics\, and Klyde Warren
  Park food trucks will be available for dinner. Wine and spirits may be sa
 mpled for free\, while bars are available for beverage purchase. \n   VIP
  tickets  are $50 each and include access to a special lounge area offerin
 g complimentary wine\, beer and hors d’oeuvres.\nKlyde Warren Park\n2012 W
 oodall Rodgers Freeway\nDallas\, TX 75201 United States\n
LOCATION:2012 Woodall Rodgers Freeway\, Dallas\, TX 75201
URL:http://uptown.bubblelife.com/community/klyde_warren_park_1/library/3518
 98341/key/3511066370/Jazz_under_the_Stars_presented_by_RNDC
CREATED:20231003T160833Z
LAST-MODIFIED:20231003T160833Z
DTSTAMP:20260421T151429Z
CLASS:PUBLIC
STATUS:CONFIRMED
TRANSP:TRANSPARENT
SEQUENCE:1
END:VEVENT
END:VCALENDAR
