BEGIN:VCALENDAR
VERSION:2.0
BEGIN:VEVENT
UID:687A55F8-265C-4952-8EEB-0133A6B0B55F
DTSTART:20231006T200000Z
DTEND:20231006T230000Z
SUMMARY:Dallasites101 Silent Disco
DESCRIPTION:Dance the night away with  Dallasites101  at a silent disco par
 ty! Enjoy electrifying music from three separate DJs on your own personal
  headset while you dance to the beat. Headphones are available to rent and
  included in your ticket price\, so you can move and groove while drinks a
 nd food are available at Mi Cocina’s La Parada and a host of tasty food tr
 ucks. \nClick  here  to register for Silent Disco on October 6!  \nClick
   here  to register for Silent Disco on November 3! \n*NO REFUNDS WILL BE
  GIVEN. Headphones and drinks have already been paid for* \n This event is
  for all ages \nIf you’ve never been to a silent disco\, this is the perfe
 ct chance\, so you can tune in and groove out. \nCheck in starts at 8pm \n
 Headphones have 3 different stations with each playing different music fro
 m DJ Richy Smart + DJ 4The Win + DJ Nhu B.! \nYou’ll know what others are
  listening to based on the color shown\, so you can find a crew jamming to
  the same songs and all dance & vibe together!\nKlyde Warren Park\n2012 Wo
 odall Rodgers Freeway\nDallas\, TX 75201 United States\n
LOCATION:2012 Woodall Rodgers Freeway\, Dallas\, TX 75201
URL:http://uptown.bubblelife.com/community/klyde_warren_park_1/library/3518
 98341/key/3511065464/Dallasites101_Silent_Disco
CREATED:20231003T204812Z
LAST-MODIFIED:20231003T204812Z
DTSTAMP:20260421T132722Z
CLASS:PUBLIC
STATUS:CONFIRMED
TRANSP:TRANSPARENT
SEQUENCE:1
END:VEVENT
END:VCALENDAR
