BEGIN:VCALENDAR
VERSION:2.0
BEGIN:VEVENT
UID:0B1CB57A-0614-47A3-B961-90967CC440D1
DTSTART:20231028T170000Z
DTEND:20231028T210000Z
SUMMARY:trick-or-Treating in the Park Presented by Kroger
DESCRIPTION:Klyde Warren Park’s Corporate Council hosts its third-annual FR
 EE trick-or-treating in the Park presented by Kroger. Dress the whole fami
 ly up\, and join us for candy collecting\, costume contests and classic ci
 nema with a nighttime showing of the Halloween movie  Coco .  For more det
 ails\, visit klydewarrenpark.org .\nKlyde Warren Park\n2012 Woodall Rodger
 s Freeway\nDallas\, TX 75201 United States\n
LOCATION:2012 Woodall Rodgers Freeway\, Dallas\, TX 75201
URL:http://uptown.bubblelife.com/community/klyde_warren_park_1/library/3518
 98341/key/3511042302/trick-or-Treating_in_the_Park_Presented_by_Kroger
CREATED:20230913T212658Z
LAST-MODIFIED:20230913T212658Z
DTSTAMP:20260421T151418Z
CLASS:PUBLIC
STATUS:CONFIRMED
TRANSP:TRANSPARENT
SEQUENCE:1
END:VEVENT
END:VCALENDAR
