BEGIN:VCALENDAR
VERSION:2.0
BEGIN:VEVENT
UID:0EFB0DB9-D2F4-4E89-A3E5-98716B81A762
DTSTART:20231216T120000Z
DTEND:20231216T170000Z
SUMMARY:Holiday Shop & Stroll On Lovers Lane Dec. 16
DESCRIPTION:Kat + Noelle\, Nikki Smith Designs\, PaperAffair\, Scarlet Reag
 an\,   and   TASC\, located in the Pavilion on Lovers Lane\, will host a H
 oliday Shop & Stroll benefiting Community Partners of Dallas on Saturday\,
  December 16\, 2023\, from 12 – 5 p.m.  Shoppers will receive 20% off purc
 hases with the donation of the following items to Community Partners of Da
 llas’ Rainbow room: coats\, hats\, gloves\, and adult\, toddler\, and infa
 nt-sized socks. Coats must be new with tags and all children and teen size
 s are needed.  \nSince 1989\, Community Partners of Dallas has ensured saf
 ety and restored dignity and hope to abused and neglected children by prov
 iding crucial resources and   support to the caseworkers of Dallas County
  Child Protective Services. Community Partners of Dallas provides items su
 ch as winter coats\, diapers and formula\, holiday gifts\, school uniforms
 \, personal hygiene products\, food and more\, to send the abused children
  in our community the message that someone does care.  Please visit  www.c
 ommunitypartnersdallas.org  for more information.\nPavillion on Lovers Lan
 e\n5710 W. Lovers Lane\nDallas\, TX 75209 United States\n
LOCATION:5710 W. Lovers Lane\, Dallas\, TX 75209
URL:http://uptown.bubblelife.com/community/brynn_bagot_public_relations_1/l
 ibrary/35849764/key/3511035900/Holiday_Shop_Stroll_On_Lovers_Lane_Dec._16
CREATED:20231121T213129Z
LAST-MODIFIED:20231121T213129Z
DTSTAMP:20260419T200344Z
CLASS:PUBLIC
STATUS:CONFIRMED
TRANSP:TRANSPARENT
SEQUENCE:1
END:VEVENT
END:VCALENDAR
